Package: chihaya Version: 1.11.0 Command: /home/biocbuild/bbs-3.23-bioc/R/bin/R CMD build --keep-empty-dirs --no-resave-data chihaya StartedAt: 2025-11-16 16:47:23 -0500 (Sun, 16 Nov 2025) EndedAt: 2025-11-16 16:48:07 -0500 (Sun, 16 Nov 2025) EllapsedTime: 44.0 seconds RetCode: 0 Status: OK PackageFile: chihaya_1.11.0.tar.gz PackageFileSize: 258.2 KiB