Package: chevreulShiny Version: 1.3.0 Command: /home/biocbuild/bbs-3.23-bioc/R/bin/R CMD INSTALL chevreulShiny StartedAt: 2025-11-20 15:57:16 -0500 (Thu, 20 Nov 2025) EndedAt: 2025-11-20 15:58:13 -0500 (Thu, 20 Nov 2025) EllapsedTime: 57.2 seconds RetCode: 0 Status: OK