Package: chevreulShiny Version: 1.3.0 Command: /home/biocbuild/bbs-3.23-bioc/R/bin/R CMD build --keep-empty-dirs --no-resave-data chevreulShiny StartedAt: 2025-11-20 16:46:20 -0500 (Thu, 20 Nov 2025) EndedAt: 2025-11-20 16:47:40 -0500 (Thu, 20 Nov 2025) EllapsedTime: 80.1 seconds RetCode: 0 Status: OK PackageFile: chevreulShiny_1.3.0.tar.gz PackageFileSize: 7.471 MiB