Package: chevreulShiny Version: 1.2.0 Command: /Library/Frameworks/R.framework/Resources/bin/R CMD build --keep-empty-dirs --no-resave-data chevreulShiny StartedAt: 2025-10-29 23:05:31 -0400 (Wed, 29 Oct 2025) EndedAt: 2025-10-29 23:07:06 -0400 (Wed, 29 Oct 2025) EllapsedTime: 94.5 seconds RetCode: 0 Status: OK PackageFile: chevreulShiny_1.2.0.tar.gz PackageFileSize: 7.471 MiB