Package: chevreulShiny Version: 1.1.2 Command: /Library/Frameworks/R.framework/Resources/bin/R CMD INSTALL chevreulShiny StartedAt: 2025-10-17 15:31:01 -0400 (Fri, 17 Oct 2025) EndedAt: 2025-10-17 15:31:24 -0400 (Fri, 17 Oct 2025) EllapsedTime: 23.1 seconds RetCode: 0 Status: OK