Package: chevreulShiny Version: 1.1.2 Command: /Library/Frameworks/R.framework/Resources/bin/R CMD build --keep-empty-dirs --no-resave-data chevreulShiny StartedAt: 2025-10-17 15:54:37 -0400 (Fri, 17 Oct 2025) EndedAt: 2025-10-17 15:55:11 -0400 (Fri, 17 Oct 2025) EllapsedTime: 34.4 seconds RetCode: 0 Status: OK PackageFile: chevreulShiny_1.1.2.tar.gz PackageFileSize: 7.471 MiB