Package: chevreulProcess Version: 1.1.2 Command: /home/biocbuild/bbs-3.22-bioc/R/bin/R CMD check --install=check:chevreulProcess.install-out.txt --library=/home/biocbuild/bbs-3.22-bioc/R/site-library --timings chevreulProcess_1.1.2.tar.gz StartedAt: 2025-10-08 22:35:40 -0400 (Wed, 08 Oct 2025) EndedAt: 2025-10-08 22:42:59 -0400 (Wed, 08 Oct 2025) EllapsedTime: 439.5 seconds RetCode: 0 Status: OK CheckDir: chevreulProcess.Rcheck Warnings: 0