Package: chevreulProcess Version: 1.3.0 Command: /home/biocbuild/bbs-3.23-bioc/R/bin/R CMD INSTALL chevreulProcess StartedAt: 2025-11-20 15:54:35 -0500 (Thu, 20 Nov 2025) EndedAt: 2025-11-20 15:55:28 -0500 (Thu, 20 Nov 2025) EllapsedTime: 52.6 seconds RetCode: 0 Status: OK