Package: chevreulProcess Version: 1.3.0 Command: /home/biocbuild/bbs-3.23-bioc/R/bin/R CMD check --install=check:chevreulProcess.install-out.txt --library=/home/biocbuild/bbs-3.23-bioc/R/site-library --timings chevreulProcess_1.3.0.tar.gz StartedAt: 2025-11-20 21:59:53 -0500 (Thu, 20 Nov 2025) EndedAt: 2025-11-20 22:06:57 -0500 (Thu, 20 Nov 2025) EllapsedTime: 423.7 seconds RetCode: 0 Status: OK CheckDir: chevreulProcess.Rcheck Warnings: 0