Package: chevreulPlot Version: 1.3.0 Command: /home/biocbuild/bbs-3.23-bioc/R/bin/R CMD INSTALL chevreulPlot StartedAt: 2025-11-04 15:56:18 -0500 (Tue, 04 Nov 2025) EndedAt: 2025-11-04 15:57:12 -0500 (Tue, 04 Nov 2025) EllapsedTime: 54.7 seconds RetCode: 0 Status: OK