Package: chevreulPlot Version: 1.1.2 Command: /Library/Frameworks/R.framework/Resources/bin/R CMD INSTALL chevreulPlot StartedAt: 2025-10-08 15:54:51 -0400 (Wed, 08 Oct 2025) EndedAt: 2025-10-08 15:56:05 -0400 (Wed, 08 Oct 2025) EllapsedTime: 73.8 seconds RetCode: 0 Status: OK