Package: chevreulPlot Version: 1.1.2 Command: /Library/Frameworks/R.framework/Resources/bin/R CMD build --keep-empty-dirs --no-resave-data chevreulPlot StartedAt: 2025-10-08 16:27:57 -0400 (Wed, 08 Oct 2025) EndedAt: 2025-10-08 16:29:35 -0400 (Wed, 08 Oct 2025) EllapsedTime: 98.1 seconds RetCode: 0 Status: OK PackageFile: chevreulPlot_1.1.2.tar.gz PackageFileSize: 12.9 MiB