Package: chevreulPlot Version: 1.1.2 Command: rm -rf chevreulPlot.buildbin-libdir && mkdir chevreulPlot.buildbin-libdir && /Users/biocbuild/BBS/utils/build-universal.sh chevreulPlot_1.1.2.tar.gz /Library/Frameworks/R.framework/Resources/bin/R chevreulPlot.buildbin-libdir StartedAt: 2025-10-09 02:23:53 -0400 (Thu, 09 Oct 2025) EndedAt: 2025-10-09 02:25:12 -0400 (Thu, 09 Oct 2025) EllapsedTime: 78.5 seconds RetCode: 0 Status: OK PackageFile: chevreulPlot_1.1.2.tgz PackageFileSize: 12.96 MiB