Package: cghMCR Version: 1.69.0 Command: /home/biocbuild/bbs-3.23-bioc/R/bin/R CMD INSTALL cghMCR StartedAt: 2025-10-31 15:37:50 -0400 (Fri, 31 Oct 2025) EndedAt: 2025-10-31 15:38:11 -0400 (Fri, 31 Oct 2025) EllapsedTime: 20.3 seconds RetCode: 0 Status: OK