Package: cghMCR Version: 1.69.0 Command: /home/biocbuild/bbs-3.23-bioc/R/bin/R CMD build --keep-empty-dirs --no-resave-data cghMCR StartedAt: 2025-10-31 17:00:14 -0400 (Fri, 31 Oct 2025) EndedAt: 2025-10-31 17:01:19 -0400 (Fri, 31 Oct 2025) EllapsedTime: 65.1 seconds RetCode: 0 Status: OK PackageFile: cghMCR_1.69.0.tar.gz PackageFileSize: 36.1 MiB