Package: cghMCR Version: 1.69.0 Command: /Library/Frameworks/R.framework/Resources/bin/R CMD INSTALL cghMCR StartedAt: 2025-11-20 15:30:50 -0500 (Thu, 20 Nov 2025) EndedAt: 2025-11-20 15:31:17 -0500 (Thu, 20 Nov 2025) EllapsedTime: 27.4 seconds RetCode: 0 Status: OK