Package: cghMCR Version: 1.69.0 Command: /Library/Frameworks/R.framework/Resources/bin/R CMD build --keep-empty-dirs --no-resave-data cghMCR StartedAt: 2025-11-20 16:25:58 -0500 (Thu, 20 Nov 2025) EndedAt: 2025-11-20 16:27:11 -0500 (Thu, 20 Nov 2025) EllapsedTime: 73.2 seconds RetCode: 0 Status: OK PackageFile: cghMCR_1.69.0.tar.gz PackageFileSize: 36.1 MiB