Package: cghMCR Version: 1.69.0 Command: rm -rf cghMCR.buildbin-libdir && mkdir cghMCR.buildbin-libdir && /Users/biocbuild/BBS/utils/build-universal.sh cghMCR_1.69.0.tar.gz /Library/Frameworks/R.framework/Resources/bin/R cghMCR.buildbin-libdir StartedAt: 2025-11-21 01:25:53 -0500 (Fri, 21 Nov 2025) EndedAt: 2025-11-21 01:26:37 -0500 (Fri, 21 Nov 2025) EllapsedTime: 43.7 seconds RetCode: 0 Status: OK PackageFile: cghMCR_1.69.0.tgz PackageFileSize: 37.03 MiB