Package: cghMCR Version: 1.67.0 Command: /Library/Frameworks/R.framework/Resources/bin/R CMD INSTALL cghMCR StartedAt: 2025-10-24 15:12:23 -0400 (Fri, 24 Oct 2025) EndedAt: 2025-10-24 15:12:31 -0400 (Fri, 24 Oct 2025) EllapsedTime: 8.5 seconds RetCode: 0 Status: OK