Package: cghMCR Version: 1.67.0 Command: /Library/Frameworks/R.framework/Resources/bin/R CMD build --keep-empty-dirs --no-resave-data cghMCR StartedAt: 2025-10-26 15:55:03 -0400 (Sun, 26 Oct 2025) EndedAt: 2025-10-26 15:55:33 -0400 (Sun, 26 Oct 2025) EllapsedTime: 30.3 seconds RetCode: 0 Status: OK PackageFile: cghMCR_1.67.0.tar.gz PackageFileSize: 36.1 MiB