Package: cghMCR Version: 1.67.0 Command: rm -rf cghMCR.buildbin-libdir && mkdir cghMCR.buildbin-libdir && /Users/biocbuild/BBS/utils/build-universal.sh cghMCR_1.67.0.tar.gz /Library/Frameworks/R.framework/Resources/bin/R cghMCR.buildbin-libdir StartedAt: 2025-10-24 22:57:11 -0400 (Fri, 24 Oct 2025) EndedAt: 2025-10-24 22:57:27 -0400 (Fri, 24 Oct 2025) EllapsedTime: 15.3 seconds RetCode: 0 Status: OK PackageFile: cghMCR_1.67.0.tgz PackageFileSize: 37.03 MiB