Package: cfdnakit Version: 1.9.0 Command: /Library/Frameworks/R.framework/Resources/bin/R CMD INSTALL cfdnakit StartedAt: 2025-11-21 15:10:55 -0500 (Fri, 21 Nov 2025) EndedAt: 2025-11-21 15:11:01 -0500 (Fri, 21 Nov 2025) EllapsedTime: 5.6 seconds RetCode: 0 Status: OK