Package: cfdnakit Version: 1.9.0 Command: /Library/Frameworks/R.framework/Resources/bin/R CMD build --keep-empty-dirs --no-resave-data cfdnakit StartedAt: 2025-11-21 15:52:04 -0500 (Fri, 21 Nov 2025) EndedAt: 2025-11-21 15:52:25 -0500 (Fri, 21 Nov 2025) EllapsedTime: 21.3 seconds RetCode: 0 Status: OK PackageFile: cfdnakit_1.9.0.tar.gz PackageFileSize: 3.022 MiB