Package: cfdnakit Version: 1.9.0 Command: rm -rf cfdnakit.buildbin-libdir && mkdir cfdnakit.buildbin-libdir && /Users/biocbuild/BBS/utils/build-universal.sh cfdnakit_1.9.0.tar.gz /Library/Frameworks/R.framework/Resources/bin/R cfdnakit.buildbin-libdir StartedAt: 2025-11-21 23:25:40 -0500 (Fri, 21 Nov 2025) EndedAt: 2025-11-21 23:25:47 -0500 (Fri, 21 Nov 2025) EllapsedTime: 7.1 seconds RetCode: 0 Status: OK PackageFile: cfdnakit_1.9.0.tgz PackageFileSize: 3.107 MiB