Package: cfTools Version: 1.9.0 Command: /home/biocbuild/R/R/bin/R CMD INSTALL cfTools StartedAt: 2025-10-09 21:21:30 -0000 (Thu, 09 Oct 2025) EndedAt: 2025-10-09 21:22:31 -0000 (Thu, 09 Oct 2025) EllapsedTime: 61.0 seconds RetCode: 0 Status: OK