Package: cfTools Version: 1.9.0 Command: /home/biocbuild/bbs-3.22-bioc/R/bin/R CMD check --install=check:cfTools.install-out.txt --library=/home/biocbuild/bbs-3.22-bioc/R/site-library --timings cfTools_1.9.0.tar.gz StartedAt: 2025-09-29 22:24:17 -0400 (Mon, 29 Sep 2025) EndedAt: 2025-09-29 22:27:44 -0400 (Mon, 29 Sep 2025) EllapsedTime: 207.3 seconds RetCode: 0 Status: OK CheckDir: cfTools.Rcheck Warnings: 0