Package: cfTools Version: 1.11.0 Command: /home/biocbuild/bbs-3.23-bioc/R/bin/R CMD INSTALL cfTools StartedAt: 2025-11-04 15:25:27 -0500 (Tue, 04 Nov 2025) EndedAt: 2025-11-04 15:26:11 -0500 (Tue, 04 Nov 2025) EllapsedTime: 43.6 seconds RetCode: 0 Status: OK