Package: cfTools Version: 1.11.0 Command: /home/biocbuild/bbs-3.23-bioc/R/bin/R CMD check --install=check:cfTools.install-out.txt --library=/home/biocbuild/bbs-3.23-bioc/R/site-library --timings cfTools_1.11.0.tar.gz StartedAt: 2025-11-06 21:45:47 -0500 (Thu, 06 Nov 2025) EndedAt: 2025-11-06 21:49:14 -0500 (Thu, 06 Nov 2025) EllapsedTime: 207.3 seconds RetCode: 0 Status: OK CheckDir: cfTools.Rcheck Warnings: 0