Package: cfTools Version: 1.11.0 Command: /home/biocbuild/bbs-3.23-bioc/R/bin/R CMD build --keep-empty-dirs --no-resave-data cfTools StartedAt: 2025-11-04 16:42:34 -0500 (Tue, 04 Nov 2025) EndedAt: 2025-11-04 16:43:51 -0500 (Tue, 04 Nov 2025) EllapsedTime: 77.1 seconds RetCode: 0 Status: OK PackageFile: cfTools_1.11.0.tar.gz PackageFileSize: 2.203 MiB