Package: cfDNAPro Version: 1.15.0 Command: /home/biocbuild/bbs-3.22-bioc/R/bin/R CMD check --install=check:cfDNAPro.install-out.txt --library=/home/biocbuild/bbs-3.22-bioc/R/site-library --timings cfDNAPro_1.15.0.tar.gz StartedAt: 2025-09-29 22:23:36 -0400 (Mon, 29 Sep 2025) EndedAt: 2025-09-29 22:28:27 -0400 (Mon, 29 Sep 2025) EllapsedTime: 290.4 seconds RetCode: 0 Status: WARNINGS CheckDir: cfDNAPro.Rcheck Warnings: 1