Package: cfDNAPro Version: 1.17.0 Command: /home/biocbuild/bbs-3.23-bioc/R/bin/R CMD check --install=check:cfDNAPro.install-out.txt --library=/home/biocbuild/bbs-3.23-bioc/R/site-library --timings cfDNAPro_1.17.0.tar.gz StartedAt: 2025-11-06 21:45:37 -0500 (Thu, 06 Nov 2025) EndedAt: 2025-11-06 21:50:16 -0500 (Thu, 06 Nov 2025) EllapsedTime: 279.4 seconds RetCode: 0 Status: WARNINGS CheckDir: cfDNAPro.Rcheck Warnings: 1