Package: cfDNAPro Version: 1.17.0 Command: /home/biocbuild/bbs-3.23-bioc/R/bin/R CMD build --keep-empty-dirs --no-resave-data cfDNAPro StartedAt: 2025-11-04 16:42:10 -0500 (Tue, 04 Nov 2025) EndedAt: 2025-11-04 16:43:11 -0500 (Tue, 04 Nov 2025) EllapsedTime: 61.1 seconds RetCode: 0 Status: OK PackageFile: cfDNAPro_1.17.0.tar.gz PackageFileSize: 1.388 MiB