Package: censcyt Version: 1.19.0 Command: /home/biocbuild/bbs-3.23-bioc/R/bin/R CMD build --keep-empty-dirs --no-resave-data censcyt StartedAt: 2025-11-05 16:48:10 -0500 (Wed, 05 Nov 2025) EndedAt: 2025-11-05 16:49:32 -0500 (Wed, 05 Nov 2025) EllapsedTime: 82.0 seconds RetCode: 0 Status: OK PackageFile: censcyt_1.19.0.tar.gz PackageFileSize: 521.8 KiB