Package: censcyt Version: 1.17.0 Command: /Library/Frameworks/R.framework/Resources/bin/R CMD INSTALL censcyt StartedAt: 2025-10-14 15:24:17 -0400 (Tue, 14 Oct 2025) EndedAt: 2025-10-14 15:25:03 -0400 (Tue, 14 Oct 2025) EllapsedTime: 46.0 seconds RetCode: 0 Status: OK