Package: censcyt Version: 1.17.0 Command: /Library/Frameworks/R.framework/Resources/bin/R CMD build --keep-empty-dirs --no-resave-data censcyt StartedAt: 2025-10-14 16:24:05 -0400 (Tue, 14 Oct 2025) EndedAt: 2025-10-14 16:25:41 -0400 (Tue, 14 Oct 2025) EllapsedTime: 96.0 seconds RetCode: 0 Status: OK PackageFile: censcyt_1.17.0.tar.gz PackageFileSize: 510.4 KiB