Package: cellxgenedp Version: 1.13.1 Command: /home/biocbuild/bbs-3.22-bioc/R/bin/R CMD check --install=check:cellxgenedp.install-out.txt --library=/home/biocbuild/bbs-3.22-bioc/R/site-library --timings cellxgenedp_1.13.1.tar.gz StartedAt: 2025-10-21 22:00:30 -0400 (Tue, 21 Oct 2025) EndedAt: 2025-10-21 22:03:52 -0400 (Tue, 21 Oct 2025) EllapsedTime: 202.2 seconds RetCode: 0 Status: OK CheckDir: cellxgenedp.Rcheck Warnings: 0