Package: cellxgenedp Version: 1.15.0 Command: /home/biocbuild/bbs-3.23-bioc/R/bin/R CMD INSTALL cellxgenedp StartedAt: 2025-11-04 15:07:55 -0500 (Tue, 04 Nov 2025) EndedAt: 2025-11-04 15:08:02 -0500 (Tue, 04 Nov 2025) EllapsedTime: 6.7 seconds RetCode: 0 Status: OK