Package: cellxgenedp Version: 1.15.0 Command: /home/biocbuild/bbs-3.23-bioc/R/bin/R CMD build --keep-empty-dirs --no-resave-data cellxgenedp StartedAt: 2025-11-04 16:40:29 -0500 (Tue, 04 Nov 2025) EndedAt: 2025-11-04 16:42:03 -0500 (Tue, 04 Nov 2025) EllapsedTime: 94.1 seconds RetCode: 0 Status: OK PackageFile: cellxgenedp_1.15.0.tar.gz PackageFileSize: 472.3 KiB