Package: cellxgenedp Version: 1.13.1 Command: /Library/Frameworks/R.framework/Resources/bin/R CMD build --keep-empty-dirs --no-resave-data cellxgenedp StartedAt: 2025-10-06 16:20:49 -0400 (Mon, 06 Oct 2025) EndedAt: 2025-10-06 16:22:36 -0400 (Mon, 06 Oct 2025) EllapsedTime: 107.3 seconds RetCode: 0 Status: OK PackageFile: cellxgenedp_1.13.1.tar.gz PackageFileSize: 471.8 KiB