Package: cellxgenedp Version: 1.13.1 Command: rm -rf cellxgenedp.buildbin-libdir && mkdir cellxgenedp.buildbin-libdir && /Users/biocbuild/BBS/utils/build-universal.sh cellxgenedp_1.13.1.tar.gz /Library/Frameworks/R.framework/Resources/bin/R cellxgenedp.buildbin-libdir StartedAt: 2025-10-08 02:09:09 -0400 (Wed, 08 Oct 2025) EndedAt: 2025-10-08 02:09:20 -0400 (Wed, 08 Oct 2025) EllapsedTime: 10.1 seconds RetCode: 0 Status: OK PackageFile: cellxgenedp_1.13.1.tgz PackageFileSize: 505.4 KiB