Package: cellscape Version: 1.35.0 Command: /home/biocbuild/bbs-3.23-bioc/R/bin/R CMD INSTALL cellscape StartedAt: 2025-10-31 15:17:18 -0400 (Fri, 31 Oct 2025) EndedAt: 2025-10-31 15:17:21 -0400 (Fri, 31 Oct 2025) EllapsedTime: 3.7 seconds RetCode: 0 Status: OK