Package: cellscape Version: 1.33.0 Command: /Library/Frameworks/R.framework/Resources/bin/R CMD INSTALL cellscape StartedAt: 2025-10-12 15:12:12 -0400 (Sun, 12 Oct 2025) EndedAt: 2025-10-12 15:12:38 -0400 (Sun, 12 Oct 2025) EllapsedTime: 25.8 seconds RetCode: 0 Status: OK