Package: cellscape Version: 1.33.0 Command: rm -rf cellscape.buildbin-libdir && mkdir cellscape.buildbin-libdir && /Users/biocbuild/BBS/utils/build-universal.sh cellscape_1.33.0.tar.gz /Library/Frameworks/R.framework/Resources/bin/R cellscape.buildbin-libdir StartedAt: 2025-10-14 02:35:30 -0400 (Tue, 14 Oct 2025) EndedAt: 2025-10-14 02:35:38 -0400 (Tue, 14 Oct 2025) EllapsedTime: 8.1 seconds RetCode: 0 Status: OK PackageFile: cellscape_1.33.0.tgz PackageFileSize: 884.4 KiB