Package: cellmigRation Version: 1.19.0 Command: /home/biocbuild/bbs-3.23-bioc/R/bin/R CMD INSTALL cellmigRation StartedAt: 2025-11-23 15:10:33 -0500 (Sun, 23 Nov 2025) EndedAt: 2025-11-23 15:10:54 -0500 (Sun, 23 Nov 2025) EllapsedTime: 21.5 seconds RetCode: 0 Status: OK