Package: cellmigRation Version: 1.19.0 Command: /home/biocbuild/bbs-3.23-bioc/R/bin/R CMD build --keep-empty-dirs --no-resave-data cellmigRation StartedAt: 2025-11-23 16:43:21 -0500 (Sun, 23 Nov 2025) EndedAt: 2025-11-23 16:45:33 -0500 (Sun, 23 Nov 2025) EllapsedTime: 131.1 seconds RetCode: 0 Status: OK PackageFile: cellmigRation_1.19.0.tar.gz PackageFileSize: 1.153 MiB