Package: cellmigRation Version: 1.19.0 Command: /Library/Frameworks/R.framework/Resources/bin/R CMD INSTALL cellmigRation StartedAt: 2025-11-21 15:05:34 -0500 (Fri, 21 Nov 2025) EndedAt: 2025-11-21 15:05:43 -0500 (Fri, 21 Nov 2025) EllapsedTime: 9.4 seconds RetCode: 0 Status: OK