Package: cellmigRation Version: 1.19.0 Command: /Library/Frameworks/R.framework/Resources/bin/R CMD build --keep-empty-dirs --no-resave-data cellmigRation StartedAt: 2025-11-21 15:50:58 -0500 (Fri, 21 Nov 2025) EndedAt: 2025-11-21 15:51:47 -0500 (Fri, 21 Nov 2025) EllapsedTime: 48.5 seconds RetCode: 0 Status: OK PackageFile: cellmigRation_1.19.0.tar.gz PackageFileSize: 1.364 MiB