Package: cellmigRation Version: 1.19.0 Command: rm -rf cellmigRation.buildbin-libdir && mkdir cellmigRation.buildbin-libdir && /Users/biocbuild/BBS/utils/build-universal.sh cellmigRation_1.19.0.tar.gz /Library/Frameworks/R.framework/Resources/bin/R cellmigRation.buildbin-libdir StartedAt: 2025-11-21 23:25:29 -0500 (Fri, 21 Nov 2025) EndedAt: 2025-11-21 23:25:38 -0500 (Fri, 21 Nov 2025) EllapsedTime: 8.2 seconds RetCode: 0 Status: OK PackageFile: cellmigRation_1.19.0.tgz PackageFileSize: 1.994 MiB