Package: cellmig Version: 0.99.16 Command: /home/biocbuild/bbs-3.22-bioc/R/bin/R CMD INSTALL cellmig StartedAt: 2025-10-12 15:10:14 -0400 (Sun, 12 Oct 2025) EndedAt: 2025-10-12 15:13:27 -0400 (Sun, 12 Oct 2025) EllapsedTime: 192.6 seconds RetCode: 0 Status: OK