Package: cellmig Version: 0.99.16 Command: /home/biocbuild/bbs-3.22-bioc/R/bin/R CMD build --keep-empty-dirs --no-resave-data --md5 cellmig StartedAt: 2025-10-13 16:43:34 -0400 (Mon, 13 Oct 2025) EndedAt: 2025-10-13 16:52:30 -0400 (Mon, 13 Oct 2025) EllapsedTime: 535.5 seconds RetCode: 0 Status: OK PackageFile: cellmig_0.99.16.tar.gz PackageFileSize: 5.609 MiB